BEGIN:VCALENDAR
VERSION:2.0
PRODID:-//Events Portal - Thoroughbred Express - ECPv6.8.1//NONSGML v1.0//EN
CALSCALE:GREGORIAN
METHOD:PUBLISH
X-ORIGINAL-URL:https://operations.thoroughbredexpress.com/events
X-WR-CALDESC:Events for Events Portal - Thoroughbred Express
REFRESH-INTERVAL;VALUE=DURATION:PT1H
X-Robots-Tag:noindex
X-PUBLISHED-TTL:PT1H
BEGIN:VTIMEZONE
TZID:America/New_York
BEGIN:DAYLIGHT
TZOFFSETFROM:-0500
TZOFFSETTO:-0400
TZNAME:EDT
DTSTART:20250309T070000
END:DAYLIGHT
BEGIN:STANDARD
TZOFFSETFROM:-0400
TZOFFSETTO:-0500
TZNAME:EST
DTSTART:20251102T060000
END:STANDARD
END:VTIMEZONE
BEGIN:VEVENT
DTSTART;TZID=America/New_York:20250611T200000
DTEND;TZID=America/New_York:20250611T233000
DTSTAMP:20260422T130138
CREATED:20241223T164648Z
LAST-MODIFIED:20250519T153500Z
UID:10000051-1749672000-1749684600@operations.thoroughbredexpress.com
SUMMARY:Pit Cleaning #2
DESCRIPTION:Pit cleaning at Madison during after hours. A site manager or representative will need to be available to 1) Ensure Service 2) Ensure Cleaning and 3) Lockup Facility
URL:https://operations.thoroughbredexpress.com/events/event/pit-cleaning-2-17/
LOCATION:Madison- IN\, 2601 Wilson Ave\, Madison\, IN\, 47250\, United States
CATEGORIES:Facility Maintenance
ATTACH;FMTTYPE=image/png:https://operations.thoroughbredexpress.com/events/wp-content/uploads/sites/5/2024/12/Screenshot-2024-12-23-at-9.13.19 AM-34.png
END:VEVENT
BEGIN:VEVENT
DTSTART;TZID=America/New_York:20250114T200000
DTEND;TZID=America/New_York:20250114T233000
DTSTAMP:20260422T130138
CREATED:20241223T164545Z
LAST-MODIFIED:20250106T160813Z
UID:10000050-1736884800-1736897400@operations.thoroughbredexpress.com
SUMMARY:Pit Cleaning #1
DESCRIPTION:Pit cleaning at Madison during after hours. A site manager or representative will need to be available to 1) Ensure Service 2) Ensure Cleaning and 3) Lockup Facility
URL:https://operations.thoroughbredexpress.com/events/event/pit-cleaning-1-17/
LOCATION:Madison- IN\, 2601 Wilson Ave\, Madison\, IN\, 47250\, United States
CATEGORIES:Facility Maintenance
ATTACH;FMTTYPE=image/png:https://operations.thoroughbredexpress.com/events/wp-content/uploads/sites/5/2024/12/Screenshot-2024-12-23-at-9.13.19 AM-33.png
END:VEVENT
END:VCALENDAR